BEGIN:VCALENDAR
VERSION:2.0
PRODID:-//Rec Hall - ECPv6.15.20//NONSGML v1.0//EN
CALSCALE:GREGORIAN
METHOD:PUBLISH
X-WR-CALNAME:Rec Hall
X-ORIGINAL-URL:https://rec-hall.com
X-WR-CALDESC:Events for Rec Hall
REFRESH-INTERVAL;VALUE=DURATION:PT1H
X-Robots-Tag:noindex
X-PUBLISHED-TTL:PT1H
BEGIN:VTIMEZONE
TZID:UTC
BEGIN:STANDARD
TZOFFSETFROM:+0000
TZOFFSETTO:+0000
TZNAME:UTC
DTSTART:20240101T000000
END:STANDARD
END:VTIMEZONE
BEGIN:VEVENT
DTSTART;TZID=UTC:20260220T200000
DTEND;TZID=UTC:20260220T230000
DTSTAMP:20260423T111328
CREATED:20260202T172950Z
LAST-MODIFIED:20260204T182107Z
UID:307-1771617600-1771628400@rec-hall.com
SUMMARY:The Unathletic Games
DESCRIPTION:2/6\, 2/13\, and 2/19 | Grab a scorecard from our host! Have the highest score for the night on our listed games? Win a VR session for you and your friends! See host for details. Don’t forget to tag us on social media!
URL:https://rec-hall.com/calendar/the-unathletic-games-3/
LOCATION:Rec Hall\, 800 S Duchesne Dr\, St Charles\, MO\, 63301\, United States
END:VEVENT
BEGIN:VEVENT
DTSTART;TZID=UTC:20260219T190000
DTEND;TZID=UTC:20260219T190000
DTSTAMP:20260423T111328
CREATED:20260202T172343Z
LAST-MODIFIED:20260202T172452Z
UID:303-1771527600-1771527600@rec-hall.com
SUMMARY:Line Dancing with DJ FISH
DESCRIPTION:Line Dancing Thursday Nights! Dancing\, drink specials\, games and more! \n7-8pm lessons with Sami from Mabee Fitness Line Dancing \n8pm-12am with DJ FISH! \nDrink Specials\, games and more! \n$5 entry for 21+ \n$10 entry for ages 18-20
URL:https://rec-hall.com/calendar/line-dancing-with-dj-fish-2/
LOCATION:Rec Hall\, 800 S Duchesne Dr\, St Charles\, MO\, 63301\, United States
END:VEVENT
BEGIN:VEVENT
DTSTART;TZID=UTC:20260213T200000
DTEND;TZID=UTC:20260213T230000
DTSTAMP:20260423T111328
CREATED:20260202T172909Z
LAST-MODIFIED:20260202T172909Z
UID:306-1771012800-1771023600@rec-hall.com
SUMMARY:The Unathletic Games
DESCRIPTION:2/6\, 2/13\, and 2/19 | Grab a scorecard from our host! Have the highest score for the night on our listed games? Win a VR session for you and your friends! See host for details. Don’t forget to tag us on social media!
URL:https://rec-hall.com/calendar/the-unathletic-games-2/
LOCATION:Rec Hall\, 800 S Duchesne Dr\, St Charles\, MO\, 63301\, United States
END:VEVENT
BEGIN:VEVENT
DTSTART;TZID=UTC:20260212T190000
DTEND;TZID=UTC:20260212T190000
DTSTAMP:20260423T111328
CREATED:20260202T172257Z
LAST-MODIFIED:20260202T172309Z
UID:302-1770922800-1770922800@rec-hall.com
SUMMARY:Line Dancing with DJ FISH
DESCRIPTION:Line Dancing Thursday Nights! Dancing\, drink specials\, games and more! \n7-8pm lessons with Sami from Mabee Fitness Line Dancing \n8pm-12am with DJ FISH! \nDrink Specials\, games and more! \n$5 entry for 21+ \n$10 entry for ages 18-20
URL:https://rec-hall.com/calendar/line-dancing-with-dj-fish/
LOCATION:Rec Hall\, 800 S Duchesne Dr\, St Charles\, MO\, 63301\, United States
END:VEVENT
BEGIN:VEVENT
DTSTART;TZID=UTC:20260208T170000
DTEND;TZID=UTC:20260208T200000
DTSTAMP:20260423T111328
CREATED:20260204T194423Z
LAST-MODIFIED:20260204T194423Z
UID:317-1770570000-1770580800@rec-hall.com
SUMMARY:"Super Ball" Watch Party
DESCRIPTION:Join us for the Super Bowl on Sunday! During halftime\, we will have a “Super Ball” tournament for those who wish to participate! See you there!
URL:https://rec-hall.com/calendar/super-ball-watch-party/
LOCATION:Rec Hall\, 800 S Duchesne Dr\, St Charles\, MO\, 63301\, United States
END:VEVENT
BEGIN:VEVENT
DTSTART;TZID=UTC:20260206T200000
DTEND;TZID=UTC:20260206T230000
DTSTAMP:20260423T111328
CREATED:20260202T172808Z
LAST-MODIFIED:20260202T172808Z
UID:305-1770408000-1770418800@rec-hall.com
SUMMARY:The Unathletic Games
DESCRIPTION:2/6\, 2/13\, and 2/19 | Grab a scorecard from our host! Have the highest score for the night on our listed games? Win a VR session for you and your friends! See host for details. Don’t forget to tag us on social media!
URL:https://rec-hall.com/calendar/the-unathletic-games/
LOCATION:Rec Hall\, 800 S Duchesne Dr\, St Charles\, MO\, 63301\, United States
END:VEVENT
BEGIN:VEVENT
DTSTART;TZID=UTC:20260205T210000
DTEND;TZID=UTC:20260205T210000
DTSTAMP:20260423T111328
CREATED:20260204T134542Z
LAST-MODIFIED:20260204T191857Z
UID:314-1770325200-1770325200@rec-hall.com
SUMMARY:2/5: 9PM Delayed Opening
DESCRIPTION:On Thursday\, 2/5\, we will be open to the public at 9 pm\, and we will be open until midnight! DJ Fish will be on at 9 pm for line dancing!
URL:https://rec-hall.com/calendar/2-5-9pm-delayed-opening-2/
LOCATION:Rec Hall\, 800 S Duchesne Dr\, St Charles\, MO\, 63301\, United States
END:VEVENT
BEGIN:VEVENT
DTSTART;TZID=UTC:20260129T190000
DTEND;TZID=UTC:20260129T220000
DTSTAMP:20260423T111328
CREATED:20260102T164501Z
LAST-MODIFIED:20260102T164501Z
UID:282-1769713200-1769724000@rec-hall.com
SUMMARY:Line Dancing with DJ FISH- Thursdays in 2026!
DESCRIPTION:Join us for (most!) Thursdays in 2026 for LINE DANCING WITH DJ FISH! \nJanuary Dates: 8th\, 15th and 29th \nLessons at 7 pm\, DJ Fish starts at 8 pm \n$5 entry- includes access to games at Rec hall \nDrink Specials!
URL:https://rec-hall.com/calendar/line-dancing-with-dj-fish-thursdays-in-2026-3/
LOCATION:Rec Hall\, 800 S Duchesne Dr\, St Charles\, MO\, 63301\, United States
END:VEVENT
BEGIN:VEVENT
DTSTART;TZID=UTC:20260121T190000
DTEND;TZID=UTC:20260121T210000
DTSTAMP:20260423T111328
CREATED:20260102T165523Z
LAST-MODIFIED:20260102T165523Z
UID:285-1769022000-1769029200@rec-hall.com
SUMMARY:Trivia Night
DESCRIPTION:Trivia night on our massive LED screen with stadium-style seating! \nDrink specials \nStarts at 7 pm
URL:https://rec-hall.com/calendar/trivia-night/
LOCATION:Rec Hall\, 800 S Duchesne Dr\, St Charles\, MO\, 63301\, United States
END:VEVENT
BEGIN:VEVENT
DTSTART;TZID=UTC:20260119T120000
DTEND;TZID=UTC:20260119T220000
DTSTAMP:20260423T111328
CREATED:20260102T165343Z
LAST-MODIFIED:20260114T201033Z
UID:284-1768824000-1768860000@rec-hall.com
SUMMARY:OPEN AT NOON: Football Championship Watch Party
DESCRIPTION:National Football Championship Watch Party \nYes- we are opening on a MONDAY!! \nGame starts at 6:30 PM \nDrink specials\, free admission\, AND MORE! \nFamily friendly event
URL:https://rec-hall.com/calendar/national-football-championship-watch-party/
LOCATION:Rec Hall\, 800 S Duchesne Dr\, St Charles\, MO\, 63301\, United States
END:VEVENT
BEGIN:VEVENT
DTSTART;TZID=UTC:20260117T160000
DTEND;TZID=UTC:20260117T160000
DTSTAMP:20260423T111328
CREATED:20260114T181552Z
LAST-MODIFIED:20260114T182221Z
UID:293-1768665600-1768665600@rec-hall.com
SUMMARY:Closing at 4 pm on 1/17 Due to Private Event
DESCRIPTION:We will be closing at 4 pm on 1/17 due to private events! We will see you back for normal hours on Sunday\, 1/18!
URL:https://rec-hall.com/calendar/closing-at-4-pm-on-1-17-due-to-private-event/
LOCATION:Rec Hall\, 800 S Duchesne Dr\, St Charles\, MO\, 63301\, United States
END:VEVENT
BEGIN:VEVENT
DTSTART;TZID=UTC:20260115T190000
DTEND;TZID=UTC:20260115T220000
DTSTAMP:20260423T111328
CREATED:20260102T164301Z
LAST-MODIFIED:20260102T164601Z
UID:281-1768503600-1768514400@rec-hall.com
SUMMARY:Line Dancing with DJ FISH- Thursdays in 2026!
DESCRIPTION:Join us for (most!) Thursdays in 2026 for LINE DANCING WITH DJ FISH! \nJanuary Dates: 8th\, 15th and 29th \nLessons at 7 pm\, DJ Fish starts at 8 pm \n$5 entry- includes access to games at Rec hall \nDrink Specials!
URL:https://rec-hall.com/calendar/line-dancing-with-dj-fish-thursdays-in-2026-2/
LOCATION:Rec Hall\, 800 S Duchesne Dr\, St Charles\, MO\, 63301\, United States
END:VEVENT
BEGIN:VEVENT
DTSTART;TZID=UTC:20260114T170000
DTEND;TZID=UTC:20260114T220000
DTSTAMP:20260423T111328
CREATED:20260114T181722Z
LAST-MODIFIED:20260114T181722Z
UID:294-1768410000-1768428000@rec-hall.com
SUMMARY:Closed for Private Events
DESCRIPTION:We will be closed all day on Thursday\, 1/22\, for private events. We will see you tomorrow for normal hours!
URL:https://rec-hall.com/calendar/closed-for-private-events/
LOCATION:Rec Hall\, 800 S Duchesne Dr\, St Charles\, MO\, 63301\, United States
END:VEVENT
BEGIN:VEVENT
DTSTART;TZID=UTC:20260111T120000
DTEND;TZID=UTC:20260111T220000
DTSTAMP:20260423T111328
CREATED:20260102T165135Z
LAST-MODIFIED:20260102T165135Z
UID:283-1768132800-1768168800@rec-hall.com
SUMMARY:Wild Card Weekend Watch Party
DESCRIPTION:Wild Card games – WATCH PARTY! \nCatch a game on our brand new LED screen and stadium seating! \nDrink Specials \nGame times: 12 PM\, 3:30 PM\, AND 7 PM
URL:https://rec-hall.com/calendar/wild-card-weekend-watch-party/
LOCATION:Rec Hall\, 800 S Duchesne Dr\, St Charles\, MO\, 63301\, United States
END:VEVENT
BEGIN:VEVENT
DTSTART;TZID=UTC:20260108T190000
DTEND;TZID=UTC:20260108T220000
DTSTAMP:20260423T111328
CREATED:20260102T164106Z
LAST-MODIFIED:20260102T164729Z
UID:278-1767898800-1767909600@rec-hall.com
SUMMARY:Line Dancing with DJ FISH- Thursdays in 2026!
DESCRIPTION:Join us for (most!) Thursdays in 2026 for LINE DANCING WITH DJ FISH! \nJanuary Dates: 8th\, 15th and 29th \nLessons at 7 pm\, DJ Fish starts at 8 pm \n$5 entry- includes access to games at Rec hall \nDrink Specials!
URL:https://rec-hall.com/calendar/line-dancing-with-dj-fish-thursdays-in-2026/
LOCATION:Rec Hall\, 800 S Duchesne Dr\, St Charles\, MO\, 63301\, United States
END:VEVENT
BEGIN:VEVENT
DTSTART;VALUE=DATE:20260101
DTEND;VALUE=DATE:20260102
DTSTAMP:20260423T111328
CREATED:20251220T013819Z
LAST-MODIFIED:20251220T013819Z
UID:271-1767225600-1767311999@rec-hall.com
SUMMARY:1/1 Closed New Years Day
DESCRIPTION:1/1: We will be closed on New Years Day. We will see you on 1/2!
URL:https://rec-hall.com/calendar/1-1-closed-new-years-day/
LOCATION:MO
END:VEVENT
BEGIN:VEVENT
DTSTART;VALUE=DATE:20251224
DTEND;VALUE=DATE:20251228
DTSTAMP:20260423T111328
CREATED:20251220T013713Z
LAST-MODIFIED:20251222T180954Z
UID:270-1766534400-1766879999@rec-hall.com
SUMMARY:12/24-12/27: Closed to the Public
DESCRIPTION:12/24-12/27: Closed for private events and Christmas \nWe will see you back on 12/28 for normal hours!
URL:https://rec-hall.com/calendar/12-24-12-27-closed-to-the-public/
LOCATION:Rec Hall\, 800 S Duchesne Dr\, St Charles\, MO\, 63301\, United States
END:VEVENT
BEGIN:VEVENT
DTSTART;TZID=UTC:20251219T170000
DTEND;TZID=UTC:20251219T220000
DTSTAMP:20260423T111328
CREATED:20251215T174951Z
LAST-MODIFIED:20251216T030306Z
UID:267-1766163600-1766181600@rec-hall.com
SUMMARY:12/19: Closed for Private Events
DESCRIPTION:We will be closed on December 19th due to private events!   Want to host your private event at Rec Hall? Inquire on our website today!
URL:https://rec-hall.com/calendar/12-19-closed-for-private-events-2/
LOCATION:Rec Hall\, 800 S Duchesne Dr\, St Charles\, MO\, 63301\, United States
END:VEVENT
BEGIN:VEVENT
DTSTART;TZID=UTC:20251218T170000
DTEND;TZID=UTC:20251218T223000
DTSTAMP:20260423T111328
CREATED:20251201T183204Z
LAST-MODIFIED:20251201T183204Z
UID:255-1766077200-1766097000@rec-hall.com
SUMMARY:12/18: Closed for Private Events
DESCRIPTION:We will be closed on December 18th due to private events! \n  \nWant to host your private event at Rec Hall? Inquire on our website today!
URL:https://rec-hall.com/calendar/12-18-closed-for-private-events/
LOCATION:Rec Hall\, 800 S Duchesne Dr\, St Charles\, MO\, 63301\, United States
END:VEVENT
BEGIN:VEVENT
DTSTART;TZID=UTC:20251212T170000
DTEND;TZID=UTC:20251212T220000
DTSTAMP:20260423T111328
CREATED:20251201T183009Z
LAST-MODIFIED:20251201T183009Z
UID:254-1765558800-1765576800@rec-hall.com
SUMMARY:12/12: Closed for Private Events
DESCRIPTION:We will be closed on December 12th due to private events! \n  \nWant to host your private event at Rec Hall? Inquire on our website today!
URL:https://rec-hall.com/calendar/12-12-closed-for-private-events/
LOCATION:Rec Hall\, 800 S Duchesne Dr\, St Charles\, MO\, 63301\, United States
END:VEVENT
BEGIN:VEVENT
DTSTART;TZID=UTC:20251211T170000
DTEND;TZID=UTC:20251211T220000
DTSTAMP:20260423T111328
CREATED:20251201T182814Z
LAST-MODIFIED:20251201T182814Z
UID:251-1765472400-1765490400@rec-hall.com
SUMMARY:12/11: Closed for Private Events
DESCRIPTION:We will be closed on December 11th due to private events! \n  \nWant to host your private event at Rec Hall? Inquire on our website today!
URL:https://rec-hall.com/calendar/12-11-closed-for-private-events/
LOCATION:Rec Hall\, 800 S Duchesne Dr\, St Charles\, MO\, 63301\, United States
END:VEVENT
BEGIN:VEVENT
DTSTART;TZID=UTC:20251206T180000
DTEND;TZID=UTC:20251206T210000
DTSTAMP:20260423T111328
CREATED:20251201T182309Z
LAST-MODIFIED:20251201T182309Z
UID:250-1765044000-1765054800@rec-hall.com
SUMMARY:12/6 Adjusted Hours Due to Private Events
DESCRIPTION:We will have adjusted hours on December 6th due to private events! We will be open from 12 pm-6 pm\, CLOSED from 6-9 pm\, and REOPEN from 9 pm-close. \n  \nWant to host your private event at Rec Hall? Inquire on our website today!
URL:https://rec-hall.com/calendar/12-6-adjusted-hours-due-to-private-events/
LOCATION:Rec Hall\, 800 S Duchesne Dr\, St Charles\, MO\, 63301\, United States
END:VEVENT
BEGIN:VEVENT
DTSTART;TZID=UTC:20251204T190000
DTEND;TZID=UTC:20251204T220000
DTSTAMP:20260423T111328
CREATED:20251201T182000Z
LAST-MODIFIED:20251201T182000Z
UID:249-1764874800-1764885600@rec-hall.com
SUMMARY:12/4 Delayed Opening Due to Private Events: 7pm
DESCRIPTION:We will have a delayed opening on December 4th due to private events! We will see you at 7 pm. \n  \nWant to host your private event at Rec Hall? Inquire on our website today!
URL:https://rec-hall.com/calendar/12-4-delayed-opening-due-to-private-events-7pm/
LOCATION:Rec Hall\, 800 S Duchesne Dr\, St Charles\, MO\, 63301\, United States
END:VEVENT
BEGIN:VEVENT
DTSTART;TZID=UTC:20251124T190000
DTEND;TZID=UTC:20251124T210000
DTSTAMP:20260423T111328
CREATED:20251124T194226Z
LAST-MODIFIED:20251124T203829Z
UID:246-1764010800-1764018000@rec-hall.com
SUMMARY:Turkey Bingo
DESCRIPTION:It’s the final night for Turkey Bingo!! Come play some bingo and get the chance to win your Thanksgiving turkey! \n  \nStarts at 7 pm \n$5 admission \nSee you there!!
URL:https://rec-hall.com/calendar/turkey-bingo-4/
LOCATION:Rec Hall\, 800 S Duchesne Dr\, St Charles\, MO\, 63301\, United States
END:VEVENT
BEGIN:VEVENT
DTSTART;TZID=UTC:20251120T183000
DTEND;TZID=UTC:20251120T203000
DTSTAMP:20260423T111328
CREATED:20251027T212347Z
LAST-MODIFIED:20251027T212743Z
UID:146-1763663400-1763670600@rec-hall.com
SUMMARY:Trivia Night- Star Wars
DESCRIPTION:Join us for (Kahoot!) Trivia Night on Thursday\, November 20th! For November\, our prizes for every round are TURKEYS!!! \nTheme this week: Star Wars \nSee you there!
URL:https://rec-hall.com/calendar/trivia-night-star-wars/
LOCATION:MO
END:VEVENT
BEGIN:VEVENT
DTSTART;TZID=UTC:20251119T183000
DTEND;TZID=UTC:20251119T203000
DTSTAMP:20260423T111328
CREATED:20251027T213857Z
LAST-MODIFIED:20251027T213857Z
UID:153-1763577000-1763584200@rec-hall.com
SUMMARY:Turkey Bingo
DESCRIPTION:Your favorite event is back… Join us for TURKEY BINGO on Wednesday\, November 19th! See you there!
URL:https://rec-hall.com/calendar/turkey-bingo-3/
LOCATION:MO
END:VEVENT
BEGIN:VEVENT
DTSTART;TZID=UTC:20251113T183000
DTEND;TZID=UTC:20251113T203000
DTSTAMP:20260423T111328
CREATED:20251027T212218Z
LAST-MODIFIED:20251027T212728Z
UID:143-1763058600-1763065800@rec-hall.com
SUMMARY:Trivia Night- Taylor Swift
DESCRIPTION:Join us for (Kahoot!) Trivia Night on Thursday\, November 13th! For November\, our prizes for every round are TURKEYS!!! \nTheme this week: Taylor Swift \nSee you there!
URL:https://rec-hall.com/calendar/trivia-night-taylor-swift/
LOCATION:Rec Hall\, 800 S Duchesne Dr\, St Charles\, MO\, 63301\, United States
END:VEVENT
BEGIN:VEVENT
DTSTART;TZID=UTC:20251112T183000
DTEND;TZID=UTC:20251112T203000
DTSTAMP:20260423T111328
CREATED:20251027T212842Z
LAST-MODIFIED:20251027T212856Z
UID:150-1762972200-1762979400@rec-hall.com
SUMMARY:Turkey Bingo
DESCRIPTION:Your favorite event is back… Join us for TURKEY BINGO on Wednesday\, November 12th! See you there!
URL:https://rec-hall.com/calendar/turkey-bingo-2/
LOCATION:MO
END:VEVENT
BEGIN:VEVENT
DTSTART;VALUE=DATE:20251109
DTEND;VALUE=DATE:20251110
DTSTAMP:20260423T111328
CREATED:20251027T214729Z
LAST-MODIFIED:20251027T235631Z
UID:157-1762646400-1762732799@rec-hall.com
SUMMARY:Mizzou vs Texas A&M Watch Party Event
DESCRIPTION:Join us for the Mizzou vs Texas A&M WATCH PARTY Event at Rec Hall\, St Charles! \nDrink specials during game time include $5 Tigeritas featuring Una Vida\, $4 16oz domestic beers\, and $15 LARGE PIZZAS! \nThe first 100 guests to RSVP will get FREE ADMISSION AND ONE FREE DRINK! Rsvp by sending us a message on Instagram or Facebook with your group’s headcount. \nWe will also have an air bowling tournament (retired classic Rec Hall game!) with prizes! \nCan’t wait to see you there!
URL:https://rec-hall.com/calendar/mizzou-vs-texas-am-watch-party-event/
LOCATION:Rec Hall\, 800 S Duchesne Dr\, St Charles\, MO\, 63301\, United States
END:VEVENT
BEGIN:VEVENT
DTSTART;TZID=UTC:20251106T183000
DTEND;TZID=UTC:20251106T203000
DTSTAMP:20260423T111328
CREATED:20251027T041047Z
LAST-MODIFIED:20251027T210557Z
UID:139-1762453800-1762461000@rec-hall.com
SUMMARY:Trivia Night- The Office
DESCRIPTION:Join us for (Kahoot!) Trivia Night on Thursday\, November 6th! For November\, our prizes for every round are TURKEYS!!! \nTheme this week: The Office \nSee you there!
URL:https://rec-hall.com/calendar/trivia-night-the-office/
LOCATION:Rec Hall\, 800 S Duchesne Dr\, St Charles\, MO\, 63301\, United States
END:VEVENT
END:VCALENDAR