BEGIN:VCALENDAR
VERSION:2.0
PRODID:-//Rec Hall - ECPv6.15.20//NONSGML v1.0//EN
CALSCALE:GREGORIAN
METHOD:PUBLISH
X-WR-CALNAME:Rec Hall
X-ORIGINAL-URL:https://rec-hall.com
X-WR-CALDESC:Events for Rec Hall
REFRESH-INTERVAL;VALUE=DURATION:PT1H
X-Robots-Tag:noindex
X-PUBLISHED-TTL:PT1H
BEGIN:VTIMEZONE
TZID:UTC
BEGIN:STANDARD
TZOFFSETFROM:+0000
TZOFFSETTO:+0000
TZNAME:UTC
DTSTART:20250101T000000
END:STANDARD
END:VTIMEZONE
BEGIN:VEVENT
DTSTART;TZID=UTC:20260327T170000
DTEND;TZID=UTC:20260327T190000
DTSTAMP:20260419T163029
CREATED:20260304T013438Z
LAST-MODIFIED:20260304T013438Z
UID:334-1774630800-1774638000@rec-hall.com
SUMMARY:$3 Happy Hour
DESCRIPTION:All drinks are $3 from 5 pm-7 pm on FRIDAYS! (Excludes doubles)
URL:https://rec-hall.com/calendar/3-happy-hour-4/
LOCATION:Rec Hall\, 800 S Duchesne Dr\, St Charles\, MO\, 63301\, United States
END:VEVENT
BEGIN:VEVENT
DTSTART;TZID=UTC:20260402T190000
DTEND;TZID=UTC:20260402T233000
DTSTAMP:20260419T163029
CREATED:20260402T170454Z
LAST-MODIFIED:20260402T171944Z
UID:347-1775156400-1775172600@rec-hall.com
SUMMARY:Thursday Night Line Dancing
DESCRIPTION:Join us for Thursdays in 2026 for line dancing with DJ FISH and lessons with Sami!\n\n\nLessons at 7 pm\, DJ Fish from 8 pm to midnight! \n$5 entry for 18+  includes access to games at Rec Hall! $10 entry for ages 18-20. \n  \n  \n 
URL:https://rec-hall.com/calendar/thursday-night-line-dancing/
LOCATION:Rec Hall\, 800 S Duchesne Dr\, St Charles\, MO\, 63301\, United States
END:VEVENT
BEGIN:VEVENT
DTSTART;TZID=UTC:20260403T170000
DTEND;TZID=UTC:20260403T190000
DTSTAMP:20260419T163029
CREATED:20260402T170112Z
LAST-MODIFIED:20260402T172117Z
UID:343-1775235600-1775242800@rec-hall.com
SUMMARY:Friday $3 Happy Hour
DESCRIPTION:$3 Happy Hour | Every Friday | 5 – 7 PM | Entire Drink Menu
URL:https://rec-hall.com/calendar/friday-3-happy-hour/
LOCATION:Rec Hall\, 800 S Duchesne Dr\, St Charles\, MO\, 63301\, United States
END:VEVENT
BEGIN:VEVENT
DTSTART;VALUE=DATE:20260404
DTEND;VALUE=DATE:20260405
DTSTAMP:20260419T163029
CREATED:20260402T170948Z
LAST-MODIFIED:20260402T170948Z
UID:353-1775260800-1775347199@rec-hall.com
SUMMARY:Easter Egg Hunt
DESCRIPTION:Easter Egg Hunt ALL DAY LONG! \n12-5pm: Family Friendly Egg Hunt \n5pm-12am: Adults only (18+) Egg Hunt \nCash\, gift cards\, candy\, free drinks\, free virtual reality and more!
URL:https://rec-hall.com/calendar/easter-egg-hunt/
LOCATION:Rec Hall\, 800 S Duchesne Dr\, St Charles\, MO\, 63301\, United States
END:VEVENT
BEGIN:VEVENT
DTSTART;VALUE=DATE:20260405
DTEND;VALUE=DATE:20260406
DTSTAMP:20260419T163029
CREATED:20260402T170833Z
LAST-MODIFIED:20260402T170833Z
UID:352-1775347200-1775433599@rec-hall.com
SUMMARY:CLOSED ON 4/4
DESCRIPTION:We will be closed all day on 4/4 all day. We will see you next week!
URL:https://rec-hall.com/calendar/closed-on-4-4/
LOCATION:Rec Hall\, 800 S Duchesne Dr\, St Charles\, MO\, 63301\, United States
END:VEVENT
BEGIN:VEVENT
DTSTART;TZID=UTC:20260409T190000
DTEND;TZID=UTC:20260409T233000
DTSTAMP:20260419T163029
CREATED:20260402T170535Z
LAST-MODIFIED:20260402T171920Z
UID:348-1775761200-1775777400@rec-hall.com
SUMMARY:Thursday Night Line Dancing
DESCRIPTION:Join us for Thursdays in 2026 for line dancing with DJ FISH and lessons with Sami!\n\n\nLessons at 7 pm\, DJ Fish from 8 pm to midnight! \n$5 entry for 18+  includes access to games at Rec Hall! $10 entry for ages 18-20.
URL:https://rec-hall.com/calendar/thursday-night-line-dancing-2/
LOCATION:Rec Hall\, 800 S Duchesne Dr\, St Charles\, MO\, 63301\, United States
END:VEVENT
BEGIN:VEVENT
DTSTART;TZID=UTC:20260410T170000
DTEND;TZID=UTC:20260410T190000
DTSTAMP:20260419T163029
CREATED:20260402T170200Z
LAST-MODIFIED:20260402T172058Z
UID:344-1775840400-1775847600@rec-hall.com
SUMMARY:Friday $3 Happy Hour
DESCRIPTION:$3 Happy Hour | Every Friday | 5 – 7 PM | Entire Drink Menu
URL:https://rec-hall.com/calendar/friday-3-happy-hour-2/
LOCATION:Rec Hall\, 800 S Duchesne Dr\, St Charles\, MO\, 63301\, United States
END:VEVENT
BEGIN:VEVENT
DTSTART;TZID=UTC:20260411T140000
DTEND;TZID=UTC:20260411T200000
DTSTAMP:20260419T163029
CREATED:20260402T171157Z
LAST-MODIFIED:20260402T171157Z
UID:354-1775916000-1775937600@rec-hall.com
SUMMARY:4/11 Closed from 2pm-8pm
DESCRIPTION:We will be closed for a private event on 4/11 from 2pm-8pm. We will be open from 12-2 and 8pm-12am.
URL:https://rec-hall.com/calendar/4-11-closed-from-2pm-8pm/
LOCATION:Rec Hall\, 800 S Duchesne Dr\, St Charles\, MO\, 63301\, United States
END:VEVENT
BEGIN:VEVENT
DTSTART;TZID=UTC:20260416T190000
DTEND;TZID=UTC:20260416T233000
DTSTAMP:20260419T163029
CREATED:20260402T170618Z
LAST-MODIFIED:20260402T171849Z
UID:349-1776366000-1776382200@rec-hall.com
SUMMARY:Thursday Night Line Dancing
DESCRIPTION:Join us for Thursdays in 2026 for line dancing with DJ FISH and lessons with Sami!\n\n\nLessons at 7 pm\, DJ Fish from 8 pm to midnight! \n$5 entry for 18+  includes access to games at Rec Hall! $10 entry for ages 18-20.
URL:https://rec-hall.com/calendar/thursday-night-line-dancing-3/
LOCATION:Rec Hall\, 800 S Duchesne Dr\, St Charles\, MO\, 63301\, United States
END:VEVENT
BEGIN:VEVENT
DTSTART;TZID=UTC:20260417T170000
DTEND;TZID=UTC:20260417T190000
DTSTAMP:20260419T163029
CREATED:20260402T170242Z
LAST-MODIFIED:20260402T172039Z
UID:345-1776445200-1776452400@rec-hall.com
SUMMARY:Friday $3 Happy Hour
DESCRIPTION:$3 Happy Hour | Every Friday | 5 – 7 PM | Entire Drink Menu
URL:https://rec-hall.com/calendar/friday-3-happy-hour-3/
LOCATION:Rec Hall\, 800 S Duchesne Dr\, St Charles\, MO\, 63301\, United States
END:VEVENT
BEGIN:VEVENT
DTSTART;TZID=UTC:20260423T190000
DTEND;TZID=UTC:20260423T233000
DTSTAMP:20260419T163029
CREATED:20260402T170651Z
LAST-MODIFIED:20260402T171824Z
UID:350-1776970800-1776987000@rec-hall.com
SUMMARY:Thursday Night Line Dancing
DESCRIPTION:Join us for Thursdays in 2026 for line dancing with DJ FISH and lessons with Sami!\n\n\nLessons at 7 pm\, DJ Fish from 8 pm to midnight! \n$5 entry for 18+  includes access to games at Rec Hall! $10 entry for ages 18-20.
URL:https://rec-hall.com/calendar/thursday-night-line-dancing-4/
LOCATION:Rec Hall\, 800 S Duchesne Dr\, St Charles\, MO\, 63301\, United States
END:VEVENT
BEGIN:VEVENT
DTSTART;TZID=UTC:20260424T170000
DTEND;TZID=UTC:20260424T190000
DTSTAMP:20260419T163029
CREATED:20260402T170322Z
LAST-MODIFIED:20260402T172020Z
UID:346-1777050000-1777057200@rec-hall.com
SUMMARY:Friday $3 Happy Hour
DESCRIPTION:$3 Happy Hour | Every Friday | 5 – 7 PM | Entire Drink Menu
URL:https://rec-hall.com/calendar/friday-3-happy-hour-4/
LOCATION:Rec Hall\, 800 S Duchesne Dr\, St Charles\, MO\, 63301\, United States
END:VEVENT
BEGIN:VEVENT
DTSTART;TZID=UTC:20260430T190000
DTEND;TZID=UTC:20260430T233000
DTSTAMP:20260419T163029
CREATED:20260402T170737Z
LAST-MODIFIED:20260402T171754Z
UID:351-1777575600-1777591800@rec-hall.com
SUMMARY:Thursday Night Line Dancing
DESCRIPTION:Join us for Thursdays in 2026 for line dancing with DJ FISH and lessons with Sami!\n\n\nLessons at 7 pm\, DJ Fish from 8 pm to midnight! \n$5 entry for 18+  includes access to games at Rec Hall! $10 entry for ages 18-20.
URL:https://rec-hall.com/calendar/thursday-night-line-dancing-5/
LOCATION:Rec Hall\, 800 S Duchesne Dr\, St Charles\, MO\, 63301\, United States
END:VEVENT
END:VCALENDAR